BEGIN:VCALENDAR
VERSION:2.0
PRODID:-//Truestream Fiber - ECPv6.15.20//NONSGML v1.0//EN
CALSCALE:GREGORIAN
METHOD:PUBLISH
X-WR-CALNAME:Truestream Fiber
X-ORIGINAL-URL:https://www.truestreamfiber.com
X-WR-CALDESC:Events for Truestream Fiber
REFRESH-INTERVAL;VALUE=DURATION:PT1H
X-Robots-Tag:noindex
X-PUBLISHED-TTL:PT1H
BEGIN:VTIMEZONE
TZID:America/New_York
BEGIN:DAYLIGHT
TZOFFSETFROM:-0500
TZOFFSETTO:-0400
TZNAME:EDT
DTSTART:20200308T070000
END:DAYLIGHT
BEGIN:STANDARD
TZOFFSETFROM:-0400
TZOFFSETTO:-0500
TZNAME:EST
DTSTART:20201101T060000
END:STANDARD
BEGIN:DAYLIGHT
TZOFFSETFROM:-0500
TZOFFSETTO:-0400
TZNAME:EDT
DTSTART:20210314T070000
END:DAYLIGHT
BEGIN:STANDARD
TZOFFSETFROM:-0400
TZOFFSETTO:-0500
TZNAME:EST
DTSTART:20211107T060000
END:STANDARD
BEGIN:DAYLIGHT
TZOFFSETFROM:-0500
TZOFFSETTO:-0400
TZNAME:EDT
DTSTART:20220313T070000
END:DAYLIGHT
BEGIN:STANDARD
TZOFFSETFROM:-0400
TZOFFSETTO:-0500
TZNAME:EST
DTSTART:20221106T060000
END:STANDARD
END:VTIMEZONE
BEGIN:VEVENT
DTSTART;TZID=America/New_York:20211104T163000
DTEND;TZID=America/New_York:20211104T190000
DTSTAMP:20260424T054007
CREATED:20211004T163214Z
LAST-MODIFIED:20220106T175716Z
UID:3477-1636043400-1636052400@www.truestreamfiber.com
SUMMARY:Truestream Rally November
DESCRIPTION:Stop in anytime between 4:30 – 7:00 PM to register for service. We will have a short Truestream overview and general Q & A session from 5:00 – 5:30 PM. At 6:00 PM we will have a session on the basics of streaming tv and movies. \nJoin us to learn more about Truestream high-speed fiber internet\, our unbelievable new service from Great Lakes Energy. We’ll help you register for installation and answer all your questions. We’ll even help you set up an email account if you need us to. \nTruestream benefits include: \n\nNo data caps! No contracts! No hidden fees!\nFaster internet opens more opportunities for streaming tv and music\, taking classes\, working from home\, and connecting more devices.\nFiber is more reliable and we offer the only true fiber-to-the-home service in the area\, which means it is faster and you don’t share a connection with your neighbors.\nStudies show that fiber increases property values.\n\nCan’t join us or have questions? Please email info@truestreamfiber.com \n 
URL:https://www.truestreamfiber.com/event/truestream-rally-november-2021/
LOCATION:Great Lakes Energy\, 1 Cooperative Center Dr.\, Newaygo\, MI\, 49337\, United States
ATTACH;FMTTYPE=image/png:https://www.truestreamfiber.com/wp-content/uploads/2019/04/header-event.png
END:VEVENT
END:VCALENDAR